BEGIN:VCALENDAR
VERSION:2.0
PRODID:-//The Abbey - ECPv6.15.20//NONSGML v1.0//EN
CALSCALE:GREGORIAN
METHOD:PUBLISH
X-WR-CALNAME:The Abbey
X-ORIGINAL-URL:https://abbeyorlando.com
X-WR-CALDESC:Events for The Abbey
REFRESH-INTERVAL;VALUE=DURATION:PT1H
X-Robots-Tag:noindex
X-PUBLISHED-TTL:PT1H
BEGIN:VTIMEZONE
TZID:America/New_York
BEGIN:DAYLIGHT
TZOFFSETFROM:-0500
TZOFFSETTO:-0400
TZNAME:EDT
DTSTART:20230312T070000
END:DAYLIGHT
BEGIN:STANDARD
TZOFFSETFROM:-0400
TZOFFSETTO:-0500
TZNAME:EST
DTSTART:20231105T060000
END:STANDARD
BEGIN:DAYLIGHT
TZOFFSETFROM:-0500
TZOFFSETTO:-0400
TZNAME:EDT
DTSTART:20240310T070000
END:DAYLIGHT
BEGIN:STANDARD
TZOFFSETFROM:-0400
TZOFFSETTO:-0500
TZNAME:EST
DTSTART:20241103T060000
END:STANDARD
BEGIN:DAYLIGHT
TZOFFSETFROM:-0500
TZOFFSETTO:-0400
TZNAME:EDT
DTSTART:20250309T070000
END:DAYLIGHT
BEGIN:STANDARD
TZOFFSETFROM:-0400
TZOFFSETTO:-0500
TZNAME:EST
DTSTART:20251102T060000
END:STANDARD
BEGIN:DAYLIGHT
TZOFFSETFROM:-0500
TZOFFSETTO:-0400
TZNAME:EDT
DTSTART:20260308T070000
END:DAYLIGHT
BEGIN:STANDARD
TZOFFSETFROM:-0400
TZOFFSETTO:-0500
TZNAME:EST
DTSTART:20261101T060000
END:STANDARD
END:VTIMEZONE
BEGIN:VEVENT
DTSTART;TZID=America/New_York:20250828T183000
DTEND;TZID=America/New_York:20250828T183000
DTSTAMP:20260423T041755
CREATED:20240625T055201Z
LAST-MODIFIED:20240625T055201Z
UID:8684-1756405800-1756405800@abbeyorlando.com
SUMMARY:Candlelight: Rings and Dragons
DESCRIPTION:CLICK HERE FOR TICKETS ⭐ Candlelight concerts bring the magic of a live\, multi-sensory musical experience to awe-inspiring locations like never seen before in Orlando. Get your tickets now to discover the music of Rings and Dragons at The Abbey – Orlando under the gentle glow of candlelight. \nGeneral Info\n📍 Venue: The Abbey – Orlando\n📅 Dates and times: select your dates/times directly in the ticket selector\n⏳ Duration: 60 minutes (doors open 45 mins prior to the start time and late entry is not permitted)\n👤 Age requirement: 8 years old or older. Anyone under the age of 16 must be accompanied by an adult\n♿ Accessibility: this venue is ADA compliant\n❓ View the FAQs for this event here\n🪑 Seating is assigned on a first come first served basis in each zone\n🕯️ If you would like to book a private concert or buy regular tickets for a large group (+30 people)\, click here\n🎻 Check out all the Candlelight concerts in Orlando\n🎁 To treat your friends and family to a Candlelight gift card\, click here \nTentative Program \n\nThemes from The Lord of the Rings Trilogy by Howard Shore:\n“The Caverns of Isengard”\n“Gollum”\n“Lighting of the Beacons”\n“The Passing of the Elves”\nSaruman the White”\n“Flaming Red Hair”\n“The Grace of Undomiel”\n\n\nThemes from Game of Thrones and House of the Dragon by Ramin Djawadi:\n“Opening Titles”\n“Winter Is Coming”\n“Jon Snow’s Theme”\n“Rains of Castamere”\n“Light of the Seven”\n“Fire and Blood (House Targaryen Theme)”\n\nPerformers \n\nClassern String Quartet
URL:https://abbeyorlando.com/event/candlelight-rings-and-dragons/2025-08-28/
LOCATION:The Abbey\, 100 S. Eola Drive\, Orlando\, FL\, 32801\, United States
END:VEVENT
BEGIN:VEVENT
DTSTART;TZID=America/New_York:20250720T204500
DTEND;TZID=America/New_York:20250720T204500
DTSTAMP:20260423T041755
CREATED:20240625T055201Z
LAST-MODIFIED:20240625T055201Z
UID:8683-1753044300-1753044300@abbeyorlando.com
SUMMARY:Candlelight: Rings and Dragons
DESCRIPTION:CLICK HERE FOR TICKETS ⭐ Candlelight concerts bring the magic of a live\, multi-sensory musical experience to awe-inspiring locations like never seen before in Orlando. Get your tickets now to discover the music of Rings and Dragons at The Abbey – Orlando under the gentle glow of candlelight. \nGeneral Info\n📍 Venue: The Abbey – Orlando\n📅 Dates and times: select your dates/times directly in the ticket selector\n⏳ Duration: 60 minutes (doors open 45 mins prior to the start time and late entry is not permitted)\n👤 Age requirement: 8 years old or older. Anyone under the age of 16 must be accompanied by an adult\n♿ Accessibility: this venue is ADA compliant\n❓ View the FAQs for this event here\n🪑 Seating is assigned on a first come first served basis in each zone\n🕯️ If you would like to book a private concert or buy regular tickets for a large group (+30 people)\, click here\n🎻 Check out all the Candlelight concerts in Orlando\n🎁 To treat your friends and family to a Candlelight gift card\, click here \nTentative Program \n\nThemes from The Lord of the Rings Trilogy by Howard Shore:\n“The Caverns of Isengard”\n“Gollum”\n“Lighting of the Beacons”\n“The Passing of the Elves”\nSaruman the White”\n“Flaming Red Hair”\n“The Grace of Undomiel”\n\n\nThemes from Game of Thrones and House of the Dragon by Ramin Djawadi:\n“Opening Titles”\n“Winter Is Coming”\n“Jon Snow’s Theme”\n“Rains of Castamere”\n“Light of the Seven”\n“Fire and Blood (House Targaryen Theme)”\n\nPerformers \n\nClassern String Quartet
URL:https://abbeyorlando.com/event/candlelight-rings-and-dragons/2025-07-20/
LOCATION:The Abbey\, 100 S. Eola Drive\, Orlando\, FL\, 32801\, United States
END:VEVENT
BEGIN:VEVENT
DTSTART;TZID=America/New_York:20250622T183000
DTEND;TZID=America/New_York:20250622T183000
DTSTAMP:20260423T041755
CREATED:20240625T055201Z
LAST-MODIFIED:20250516T012257Z
UID:8597-1750617000-1750617000@abbeyorlando.com
SUMMARY:Candlelight: Rings and Dragons
DESCRIPTION:CLICK HERE FOR TICKETS ⭐ Candlelight concerts bring the magic of a live\, multi-sensory musical experience to awe-inspiring locations like never seen before in Orlando. Get your tickets now to discover the music of Rings and Dragons at The Abbey – Orlando under the gentle glow of candlelight. \nGeneral Info\n📍 Venue: The Abbey – Orlando\n📅 Dates and times: select your dates/times directly in the ticket selector\n⏳ Duration: 60 minutes (doors open 45 mins prior to the start time and late entry is not permitted)\n👤 Age requirement: 8 years old or older. Anyone under the age of 16 must be accompanied by an adult\n♿ Accessibility: this venue is ADA compliant\n❓ View the FAQs for this event here\n🪑 Seating is assigned on a first come first served basis in each zone\n🕯️ If you would like to book a private concert or buy regular tickets for a large group (+30 people)\, click here\n🎻 Check out all the Candlelight concerts in Orlando\n🎁 To treat your friends and family to a Candlelight gift card\, click here \nTentative Program \n\nThemes from The Lord of the Rings Trilogy by Howard Shore:\n“The Caverns of Isengard”\n“Gollum”\n“Lighting of the Beacons”\n“The Passing of the Elves”\nSaruman the White”\n“Flaming Red Hair”\n“The Grace of Undomiel”\n\n\nThemes from Game of Thrones and House of the Dragon by Ramin Djawadi:\n“Opening Titles”\n“Winter Is Coming”\n“Jon Snow’s Theme”\n“Rains of Castamere”\n“Light of the Seven”\n“Fire and Blood (House Targaryen Theme)”\n\nPerformers \n\nClassern String Quartet
URL:https://abbeyorlando.com/event/candlelight-rings-and-dragons/2025-06-22/
LOCATION:The Abbey\, 100 S. Eola Drive\, Orlando\, FL\, 32801\, United States
END:VEVENT
BEGIN:VEVENT
DTSTART;TZID=America/New_York:20250413T204500
DTEND;TZID=America/New_York:20250413T204500
DTSTAMP:20260423T041755
CREATED:20240625T055201Z
LAST-MODIFIED:20250516T012255Z
UID:8496-1744577100-1744577100@abbeyorlando.com
SUMMARY:Candlelight: Rings and Dragons
DESCRIPTION:CLICK HERE FOR TICKETS ⭐ Candlelight concerts bring the magic of a live\, multi-sensory musical experience to awe-inspiring locations like never seen before in Orlando. Get your tickets now to discover the music of Rings and Dragons at The Abbey – Orlando under the gentle glow of candlelight. \nGeneral Info\n📍 Venue: The Abbey – Orlando\n📅 Dates and times: select your dates/times directly in the ticket selector\n⏳ Duration: 60 minutes (doors open 45 mins prior to the start time and late entry is not permitted)\n👤 Age requirement: 8 years old or older. Anyone under the age of 16 must be accompanied by an adult\n♿ Accessibility: this venue is ADA compliant\n❓ View the FAQs for this event here\n🪑 Seating is assigned on a first come first served basis in each zone\n🕯️ If you would like to book a private concert or buy regular tickets for a large group (+30 people)\, click here\n🎻 Check out all the Candlelight concerts in Orlando\n🎁 To treat your friends and family to a Candlelight gift card\, click here \nTentative Program \n\nThemes from The Lord of the Rings Trilogy by Howard Shore:\n“The Caverns of Isengard”\n“Gollum”\n“Lighting of the Beacons”\n“The Passing of the Elves”\nSaruman the White”\n“Flaming Red Hair”\n“The Grace of Undomiel”\n\n\nThemes from Game of Thrones and House of the Dragon by Ramin Djawadi:\n“Opening Titles”\n“Winter Is Coming”\n“Jon Snow’s Theme”\n“Rains of Castamere”\n“Light of the Seven”\n“Fire and Blood (House Targaryen Theme)”\n\nPerformers \n\nClassern String Quartet
URL:https://abbeyorlando.com/event/candlelight-rings-and-dragons/2025-04-13/5/
LOCATION:The Abbey\, 100 S. Eola Drive\, Orlando\, FL\, 32801\, United States
END:VEVENT
BEGIN:VEVENT
DTSTART;TZID=America/New_York:20250413T183000
DTEND;TZID=America/New_York:20250413T183000
DTSTAMP:20260423T041755
CREATED:20240625T055201Z
LAST-MODIFIED:20250516T012252Z
UID:8495-1744569000-1744569000@abbeyorlando.com
SUMMARY:Candlelight: Rings and Dragons
DESCRIPTION:CLICK HERE FOR TICKETS ⭐ Candlelight concerts bring the magic of a live\, multi-sensory musical experience to awe-inspiring locations like never seen before in Orlando. Get your tickets now to discover the music of Rings and Dragons at The Abbey – Orlando under the gentle glow of candlelight. \nGeneral Info\n📍 Venue: The Abbey – Orlando\n📅 Dates and times: select your dates/times directly in the ticket selector\n⏳ Duration: 60 minutes (doors open 45 mins prior to the start time and late entry is not permitted)\n👤 Age requirement: 8 years old or older. Anyone under the age of 16 must be accompanied by an adult\n♿ Accessibility: this venue is ADA compliant\n❓ View the FAQs for this event here\n🪑 Seating is assigned on a first come first served basis in each zone\n🕯️ If you would like to book a private concert or buy regular tickets for a large group (+30 people)\, click here\n🎻 Check out all the Candlelight concerts in Orlando\n🎁 To treat your friends and family to a Candlelight gift card\, click here \nTentative Program \n\nThemes from The Lord of the Rings Trilogy by Howard Shore:\n“The Caverns of Isengard”\n“Gollum”\n“Lighting of the Beacons”\n“The Passing of the Elves”\nSaruman the White”\n“Flaming Red Hair”\n“The Grace of Undomiel”\n\n\nThemes from Game of Thrones and House of the Dragon by Ramin Djawadi:\n“Opening Titles”\n“Winter Is Coming”\n“Jon Snow’s Theme”\n“Rains of Castamere”\n“Light of the Seven”\n“Fire and Blood (House Targaryen Theme)”\n\nPerformers \n\nClassern String Quartet
URL:https://abbeyorlando.com/event/candlelight-rings-and-dragons/2025-04-13/
LOCATION:The Abbey\, 100 S. Eola Drive\, Orlando\, FL\, 32801\, United States
END:VEVENT
BEGIN:VEVENT
DTSTART;TZID=America/New_York:20250306T203000
DTEND;TZID=America/New_York:20250306T203000
DTSTAMP:20260423T041755
CREATED:20240625T055201Z
LAST-MODIFIED:20250516T012248Z
UID:8353-1741293000-1741293000@abbeyorlando.com
SUMMARY:Candlelight: Rings and Dragons
DESCRIPTION:CLICK HERE FOR TICKETS ⭐ Candlelight concerts bring the magic of a live\, multi-sensory musical experience to awe-inspiring locations like never seen before in Orlando. Get your tickets now to discover the music of Rings and Dragons at The Abbey – Orlando under the gentle glow of candlelight. \nGeneral Info\n📍 Venue: The Abbey – Orlando\n📅 Dates and times: select your dates/times directly in the ticket selector\n⏳ Duration: 60 minutes (doors open 45 mins prior to the start time and late entry is not permitted)\n👤 Age requirement: 8 years old or older. Anyone under the age of 16 must be accompanied by an adult\n♿ Accessibility: this venue is ADA compliant\n❓ View the FAQs for this event here\n🪑 Seating is assigned on a first come first served basis in each zone\n🕯️ If you would like to book a private concert or buy regular tickets for a large group (+30 people)\, click here\n🎻 Check out all the Candlelight concerts in Orlando\n🎁 To treat your friends and family to a Candlelight gift card\, click here \nTentative Program \n\nThemes from The Lord of the Rings Trilogy by Howard Shore:\n“The Caverns of Isengard”\n“Gollum”\n“Lighting of the Beacons”\n“The Passing of the Elves”\nSaruman the White”\n“Flaming Red Hair”\n“The Grace of Undomiel”\n\n\nThemes from Game of Thrones and House of the Dragon by Ramin Djawadi:\n“Opening Titles”\n“Winter Is Coming”\n“Jon Snow’s Theme”\n“Rains of Castamere”\n“Light of the Seven”\n“Fire and Blood (House Targaryen Theme)”\n\nPerformers \n\nClassern String Quartet
URL:https://abbeyorlando.com/event/candlelight-rings-and-dragons/2025-03-06/
LOCATION:The Abbey\, 100 S. Eola Drive\, Orlando\, FL\, 32801\, United States
END:VEVENT
BEGIN:VEVENT
DTSTART;TZID=America/New_York:20250213T203000
DTEND;TZID=America/New_York:20250213T203000
DTSTAMP:20260423T041755
CREATED:20240625T055201Z
LAST-MODIFIED:20250516T012246Z
UID:8311-1739478600-1739478600@abbeyorlando.com
SUMMARY:Candlelight: Rings and Dragons
DESCRIPTION:CLICK HERE FOR TICKETS ⭐ Candlelight concerts bring the magic of a live\, multi-sensory musical experience to awe-inspiring locations like never seen before in Orlando. Get your tickets now to discover the music of Rings and Dragons at The Abbey – Orlando under the gentle glow of candlelight. \nGeneral Info\n📍 Venue: The Abbey – Orlando\n📅 Dates and times: select your dates/times directly in the ticket selector\n⏳ Duration: 60 minutes (doors open 45 mins prior to the start time and late entry is not permitted)\n👤 Age requirement: 8 years old or older. Anyone under the age of 16 must be accompanied by an adult\n♿ Accessibility: this venue is ADA compliant\n❓ View the FAQs for this event here\n🪑 Seating is assigned on a first come first served basis in each zone\n🕯️ If you would like to book a private concert or buy regular tickets for a large group (+30 people)\, click here\n🎻 Check out all the Candlelight concerts in Orlando\n🎁 To treat your friends and family to a Candlelight gift card\, click here \nTentative Program \n\nThemes from The Lord of the Rings Trilogy by Howard Shore:\n“The Caverns of Isengard”\n“Gollum”\n“Lighting of the Beacons”\n“The Passing of the Elves”\nSaruman the White”\n“Flaming Red Hair”\n“The Grace of Undomiel”\n\n\nThemes from Game of Thrones and House of the Dragon by Ramin Djawadi:\n“Opening Titles”\n“Winter Is Coming”\n“Jon Snow’s Theme”\n“Rains of Castamere”\n“Light of the Seven”\n“Fire and Blood (House Targaryen Theme)”\n\nPerformers \n\nClassern String Quartet
URL:https://abbeyorlando.com/event/candlelight-rings-and-dragons/2025-02-13/4/
LOCATION:The Abbey\, 100 S. Eola Drive\, Orlando\, FL\, 32801\, United States
END:VEVENT
BEGIN:VEVENT
DTSTART;TZID=America/New_York:20250213T183000
DTEND;TZID=America/New_York:20250213T183000
DTSTAMP:20260423T041755
CREATED:20240625T055201Z
LAST-MODIFIED:20250516T012244Z
UID:8310-1739471400-1739471400@abbeyorlando.com
SUMMARY:Candlelight: Rings and Dragons
DESCRIPTION:CLICK HERE FOR TICKETS ⭐ Candlelight concerts bring the magic of a live\, multi-sensory musical experience to awe-inspiring locations like never seen before in Orlando. Get your tickets now to discover the music of Rings and Dragons at The Abbey – Orlando under the gentle glow of candlelight. \nGeneral Info\n📍 Venue: The Abbey – Orlando\n📅 Dates and times: select your dates/times directly in the ticket selector\n⏳ Duration: 60 minutes (doors open 45 mins prior to the start time and late entry is not permitted)\n👤 Age requirement: 8 years old or older. Anyone under the age of 16 must be accompanied by an adult\n♿ Accessibility: this venue is ADA compliant\n❓ View the FAQs for this event here\n🪑 Seating is assigned on a first come first served basis in each zone\n🕯️ If you would like to book a private concert or buy regular tickets for a large group (+30 people)\, click here\n🎻 Check out all the Candlelight concerts in Orlando\n🎁 To treat your friends and family to a Candlelight gift card\, click here \nTentative Program \n\nThemes from The Lord of the Rings Trilogy by Howard Shore:\n“The Caverns of Isengard”\n“Gollum”\n“Lighting of the Beacons”\n“The Passing of the Elves”\nSaruman the White”\n“Flaming Red Hair”\n“The Grace of Undomiel”\n\n\nThemes from Game of Thrones and House of the Dragon by Ramin Djawadi:\n“Opening Titles”\n“Winter Is Coming”\n“Jon Snow’s Theme”\n“Rains of Castamere”\n“Light of the Seven”\n“Fire and Blood (House Targaryen Theme)”\n\nPerformers \n\nClassern String Quartet
URL:https://abbeyorlando.com/event/candlelight-rings-and-dragons/2025-02-13/
LOCATION:The Abbey\, 100 S. Eola Drive\, Orlando\, FL\, 32801\, United States
END:VEVENT
BEGIN:VEVENT
DTSTART;TZID=America/New_York:20250112T203000
DTEND;TZID=America/New_York:20250112T203000
DTSTAMP:20260423T041755
CREATED:20240625T055201Z
LAST-MODIFIED:20250516T012243Z
UID:8309-1736713800-1736713800@abbeyorlando.com
SUMMARY:Candlelight: Rings and Dragons
DESCRIPTION:CLICK HERE FOR TICKETS ⭐ Candlelight concerts bring the magic of a live\, multi-sensory musical experience to awe-inspiring locations like never seen before in Orlando. Get your tickets now to discover the music of Rings and Dragons at The Abbey – Orlando under the gentle glow of candlelight. \nGeneral Info\n📍 Venue: The Abbey – Orlando\n📅 Dates and times: select your dates/times directly in the ticket selector\n⏳ Duration: 60 minutes (doors open 45 mins prior to the start time and late entry is not permitted)\n👤 Age requirement: 8 years old or older. Anyone under the age of 16 must be accompanied by an adult\n♿ Accessibility: this venue is ADA compliant\n❓ View the FAQs for this event here\n🪑 Seating is assigned on a first come first served basis in each zone\n🕯️ If you would like to book a private concert or buy regular tickets for a large group (+30 people)\, click here\n🎻 Check out all the Candlelight concerts in Orlando\n🎁 To treat your friends and family to a Candlelight gift card\, click here \nTentative Program \n\nThemes from The Lord of the Rings Trilogy by Howard Shore:\n“The Caverns of Isengard”\n“Gollum”\n“Lighting of the Beacons”\n“The Passing of the Elves”\nSaruman the White”\n“Flaming Red Hair”\n“The Grace of Undomiel”\n\n\nThemes from Game of Thrones and House of the Dragon by Ramin Djawadi:\n“Opening Titles”\n“Winter Is Coming”\n“Jon Snow’s Theme”\n“Rains of Castamere”\n“Light of the Seven”\n“Fire and Blood (House Targaryen Theme)”\n\nPerformers \n\nClassern String Quartet
URL:https://abbeyorlando.com/event/candlelight-rings-and-dragons/2025-01-12/3/
LOCATION:The Abbey\, 100 S. Eola Drive\, Orlando\, FL\, 32801\, United States
END:VEVENT
BEGIN:VEVENT
DTSTART;TZID=America/New_York:20250112T183000
DTEND;TZID=America/New_York:20250112T183000
DTSTAMP:20260423T041755
CREATED:20240625T055201Z
LAST-MODIFIED:20250516T012241Z
UID:8308-1736706600-1736706600@abbeyorlando.com
SUMMARY:Candlelight: Rings and Dragons
DESCRIPTION:CLICK HERE FOR TICKETS ⭐ Candlelight concerts bring the magic of a live\, multi-sensory musical experience to awe-inspiring locations like never seen before in Orlando. Get your tickets now to discover the music of Rings and Dragons at The Abbey – Orlando under the gentle glow of candlelight. \nGeneral Info\n📍 Venue: The Abbey – Orlando\n📅 Dates and times: select your dates/times directly in the ticket selector\n⏳ Duration: 60 minutes (doors open 45 mins prior to the start time and late entry is not permitted)\n👤 Age requirement: 8 years old or older. Anyone under the age of 16 must be accompanied by an adult\n♿ Accessibility: this venue is ADA compliant\n❓ View the FAQs for this event here\n🪑 Seating is assigned on a first come first served basis in each zone\n🕯️ If you would like to book a private concert or buy regular tickets for a large group (+30 people)\, click here\n🎻 Check out all the Candlelight concerts in Orlando\n🎁 To treat your friends and family to a Candlelight gift card\, click here \nTentative Program \n\nThemes from The Lord of the Rings Trilogy by Howard Shore:\n“The Caverns of Isengard”\n“Gollum”\n“Lighting of the Beacons”\n“The Passing of the Elves”\nSaruman the White”\n“Flaming Red Hair”\n“The Grace of Undomiel”\n\n\nThemes from Game of Thrones and House of the Dragon by Ramin Djawadi:\n“Opening Titles”\n“Winter Is Coming”\n“Jon Snow’s Theme”\n“Rains of Castamere”\n“Light of the Seven”\n“Fire and Blood (House Targaryen Theme)”\n\nPerformers \n\nClassern String Quartet
URL:https://abbeyorlando.com/event/candlelight-rings-and-dragons/2025-01-12/
LOCATION:The Abbey\, 100 S. Eola Drive\, Orlando\, FL\, 32801\, United States
END:VEVENT
BEGIN:VEVENT
DTSTART;TZID=America/New_York:20241217T204500
DTEND;TZID=America/New_York:20241217T204500
DTSTAMP:20260423T041755
CREATED:20240625T055201Z
LAST-MODIFIED:20250516T012239Z
UID:8307-1734468300-1734468300@abbeyorlando.com
SUMMARY:Candlelight: Rings and Dragons
DESCRIPTION:CLICK HERE FOR TICKETS ⭐ Candlelight concerts bring the magic of a live\, multi-sensory musical experience to awe-inspiring locations like never seen before in Orlando. Get your tickets now to discover the music of Rings and Dragons at The Abbey – Orlando under the gentle glow of candlelight. \nGeneral Info\n📍 Venue: The Abbey – Orlando\n📅 Dates and times: select your dates/times directly in the ticket selector\n⏳ Duration: 60 minutes (doors open 45 mins prior to the start time and late entry is not permitted)\n👤 Age requirement: 8 years old or older. Anyone under the age of 16 must be accompanied by an adult\n♿ Accessibility: this venue is ADA compliant\n❓ View the FAQs for this event here\n🪑 Seating is assigned on a first come first served basis in each zone\n🕯️ If you would like to book a private concert or buy regular tickets for a large group (+30 people)\, click here\n🎻 Check out all the Candlelight concerts in Orlando\n🎁 To treat your friends and family to a Candlelight gift card\, click here \nTentative Program \n\nThemes from The Lord of the Rings Trilogy by Howard Shore:\n“The Caverns of Isengard”\n“Gollum”\n“Lighting of the Beacons”\n“The Passing of the Elves”\nSaruman the White”\n“Flaming Red Hair”\n“The Grace of Undomiel”\n\n\nThemes from Game of Thrones and House of the Dragon by Ramin Djawadi:\n“Opening Titles”\n“Winter Is Coming”\n“Jon Snow’s Theme”\n“Rains of Castamere”\n“Light of the Seven”\n“Fire and Blood (House Targaryen Theme)”\n\nPerformers \n\nClassern String Quartet
URL:https://abbeyorlando.com/event/candlelight-rings-and-dragons/2024-12-17/
LOCATION:The Abbey\, 100 S. Eola Drive\, Orlando\, FL\, 32801\, United States
END:VEVENT
BEGIN:VEVENT
DTSTART;TZID=America/New_York:20241121T204500
DTEND;TZID=America/New_York:20241121T204500
DTSTAMP:20260423T041755
CREATED:20240625T055201Z
LAST-MODIFIED:20250516T012237Z
UID:8167-1732221900-1732221900@abbeyorlando.com
SUMMARY:Candlelight: Rings and Dragons
DESCRIPTION:CLICK HERE FOR TICKETS ⭐ Candlelight concerts bring the magic of a live\, multi-sensory musical experience to awe-inspiring locations like never seen before in Orlando. Get your tickets now to discover the music of Rings and Dragons at The Abbey – Orlando under the gentle glow of candlelight. \nGeneral Info\n📍 Venue: The Abbey – Orlando\n📅 Dates and times: select your dates/times directly in the ticket selector\n⏳ Duration: 60 minutes (doors open 45 mins prior to the start time and late entry is not permitted)\n👤 Age requirement: 8 years old or older. Anyone under the age of 16 must be accompanied by an adult\n♿ Accessibility: this venue is ADA compliant\n❓ View the FAQs for this event here\n🪑 Seating is assigned on a first come first served basis in each zone\n🕯️ If you would like to book a private concert or buy regular tickets for a large group (+30 people)\, click here\n🎻 Check out all the Candlelight concerts in Orlando\n🎁 To treat your friends and family to a Candlelight gift card\, click here \nTentative Program \n\nThemes from The Lord of the Rings Trilogy by Howard Shore:\n“The Caverns of Isengard”\n“Gollum”\n“Lighting of the Beacons”\n“The Passing of the Elves”\nSaruman the White”\n“Flaming Red Hair”\n“The Grace of Undomiel”\n\n\nThemes from Game of Thrones and House of the Dragon by Ramin Djawadi:\n“Opening Titles”\n“Winter Is Coming”\n“Jon Snow’s Theme”\n“Rains of Castamere”\n“Light of the Seven”\n“Fire and Blood (House Targaryen Theme)”\n\nPerformers \n\nClassern String Quartet
URL:https://abbeyorlando.com/event/candlelight-rings-and-dragons/2024-11-21/2/
LOCATION:The Abbey\, 100 S. Eola Drive\, Orlando\, FL\, 32801\, United States
END:VEVENT
BEGIN:VEVENT
DTSTART;TZID=America/New_York:20241121T183000
DTEND;TZID=America/New_York:20241121T183000
DTSTAMP:20260423T041755
CREATED:20240625T055201Z
LAST-MODIFIED:20250516T012236Z
UID:8166-1732213800-1732213800@abbeyorlando.com
SUMMARY:Candlelight: Rings and Dragons
DESCRIPTION:CLICK HERE FOR TICKETS ⭐ Candlelight concerts bring the magic of a live\, multi-sensory musical experience to awe-inspiring locations like never seen before in Orlando. Get your tickets now to discover the music of Rings and Dragons at The Abbey – Orlando under the gentle glow of candlelight. \nGeneral Info\n📍 Venue: The Abbey – Orlando\n📅 Dates and times: select your dates/times directly in the ticket selector\n⏳ Duration: 60 minutes (doors open 45 mins prior to the start time and late entry is not permitted)\n👤 Age requirement: 8 years old or older. Anyone under the age of 16 must be accompanied by an adult\n♿ Accessibility: this venue is ADA compliant\n❓ View the FAQs for this event here\n🪑 Seating is assigned on a first come first served basis in each zone\n🕯️ If you would like to book a private concert or buy regular tickets for a large group (+30 people)\, click here\n🎻 Check out all the Candlelight concerts in Orlando\n🎁 To treat your friends and family to a Candlelight gift card\, click here \nTentative Program \n\nThemes from The Lord of the Rings Trilogy by Howard Shore:\n“The Caverns of Isengard”\n“Gollum”\n“Lighting of the Beacons”\n“The Passing of the Elves”\nSaruman the White”\n“Flaming Red Hair”\n“The Grace of Undomiel”\n\n\nThemes from Game of Thrones and House of the Dragon by Ramin Djawadi:\n“Opening Titles”\n“Winter Is Coming”\n“Jon Snow’s Theme”\n“Rains of Castamere”\n“Light of the Seven”\n“Fire and Blood (House Targaryen Theme)”\n\nPerformers \n\nClassern String Quartet
URL:https://abbeyorlando.com/event/candlelight-rings-and-dragons/2024-11-21/
LOCATION:The Abbey\, 100 S. Eola Drive\, Orlando\, FL\, 32801\, United States
END:VEVENT
BEGIN:VEVENT
DTSTART;TZID=America/New_York:20240912T190000
DTEND;TZID=America/New_York:20240912T190000
DTSTAMP:20260423T041755
CREATED:20240625T055201Z
LAST-MODIFIED:20250516T012219Z
UID:7829-1726167600-1726167600@abbeyorlando.com
SUMMARY:Candlelight: Rings and Dragons
DESCRIPTION:CLICK HERE FOR TICKETS ⭐ Candlelight concerts bring the magic of a live\, multi-sensory musical experience to awe-inspiring locations like never seen before in Orlando. Get your tickets now to discover the music of Rings and Dragons at The Abbey – Orlando under the gentle glow of candlelight. \nGeneral Info\n📍 Venue: The Abbey – Orlando\n📅 Dates and times: select your dates/times directly in the ticket selector\n⏳ Duration: 60 minutes (doors open 45 mins prior to the start time and late entry is not permitted)\n👤 Age requirement: 8 years old or older. Anyone under the age of 16 must be accompanied by an adult\n♿ Accessibility: this venue is ADA compliant\n❓ View the FAQs for this event here\n🪑 Seating is assigned on a first come first served basis in each zone\n🕯️ If you would like to book a private concert or buy regular tickets for a large group (+30 people)\, click here\n🎻 Check out all the Candlelight concerts in Orlando\n🎁 To treat your friends and family to a Candlelight gift card\, click here \nTentative Program \n\nThemes from The Lord of the Rings Trilogy by Howard Shore:\n“The Caverns of Isengard”\n“Gollum”\n“Lighting of the Beacons”\n“The Passing of the Elves”\nSaruman the White”\n“Flaming Red Hair”\n“The Grace of Undomiel”\n\n\nThemes from Game of Thrones and House of the Dragon by Ramin Djawadi:\n“Opening Titles”\n“Winter Is Coming”\n“Jon Snow’s Theme”\n“Rains of Castamere”\n“Light of the Seven”\n“Fire and Blood (House Targaryen Theme)”\n\nPerformers \n\nClassern String Quartet
URL:https://abbeyorlando.com/event/candlelight-rings-and-dragons/2024-09-12/
LOCATION:The Abbey\, 100 S. Eola Drive\, Orlando\, FL\, 32801\, United States
END:VEVENT
END:VCALENDAR